{"text_format":"1","workbook":"xlsx","n_sheets":5,"sheets":["7000 Series","7000Print","Mixed","4x9030","old4x30"],"not_rendered":{"charts":0,"images":0,"macros":1,"external_links":0,"defined_names":8,"comments":3,"pivot_tables":0},"unopened":[],"bounds":{"document_bytes":16777216,"sheet_cells":100000,"rows_first":2000,"rows_last":500,"rows_between":2000,"halvings":0,"cell_chars":16384,"cell_head_chars":4096},"cells_cut":0,"cells_raw":0,"read":"whole","date_system":"1900"}

{"sheet":"7000 Series","index":0,"n_rows":47,"n_cols":17,"rows_kept":47,"cut":false,"hidden":true,"merged":[]}
[null,"4 Button","8 Button",null,null,"16 Button",null,null,"16 Button",null,null,"24 Button",null,null,"24 Button"]
[null,{"$f":"'7000Print'!B2","v":8.75},{"$f":"'7000Print'!C2","v":6.5},{"$f":"'7000Print'!D2","v":0},{"$f":"'7000Print'!E2","v":6.6},{"$f":"'7000Print'!F2","v":8.1999999999999993},{"$f":"'7000Print'!G2","v":0},{"$f":"'7000Print'!H2","v":8.1999999999999993},{"$f":"'7000Print'!I2","v":8.1300000000000008},{"$f":"'7000Print'!J2","v":0},{"$f":"'7000Print'!K2","v":8.1300000000000008},{"$f":"'7000Print'!L2","v":8.1300000000000008},{"$f":"'7000Print'!M2","v":0},{"$f":"'7000Print'!N2","v":8.1300000000000008},{"$f":"'7000Print'!O2","v":8.1300000000000008},{"$f":"'7000Print'!P2","v":0},{"$f":"'7000Print'!Q2","v":8.1300000000000008}]
[{"$f":"'7000Print'!A3","v":34}," Trans/Pgm"," Dnd/Fwd",null,null,null,null,null,null,null,null,null,null,null,"sfsfasv"]
[{"$f":"'7000Print'!A4","v":6}]
[{"$f":"'7000Print'!A5","v":28.25},"Speed"," Call Back"]
[{"$f":"'7000Print'!A6","v":0}]
[{"$f":"'7000Print'!A7","v":28.25},"dfsdfg",null,null,null,"fsdfg"]
[{"$f":"'7000Print'!A8","v":0}]
[{"$f":"'7000Print'!A9","v":29.4}]
[{"$f":"'7000Print'!A10","v":0}]
[{"$f":"'7000Print'!A11","v":28.5}," Trans/Pgm"," Dnd/Fwd"]
[]
[null,"Speed"," Call Back",null,null,null,null,null,null,null,null,null,null,null,null,null,"sdvrvava"]
[]
[]
[]
[]
[]
[null," Trans/Pgm"," Dnd/Fwd"]
[]
[null,"Speed"," Call Back",null,null,null,null,null,null,null,null,null,null,null,null,null,"rvrverv"]
[]
[]
[]
[]
[]
[null," Trans/Pgm"," Dnd/Fwd"]
[]
[null,"Speed"," Call Back"]
[]
[]
[]
[null,null,null,null,null,"vrrvrv"]
[]
[null," Trans/Pgm"," Dnd/Fwd"]
[]
[null,"Speed"," Call Back"]
[]
[]
[]
[]
[]
[null," Trans/Pgm"," Dnd/Fwd"]
[]
[null,"Speed"," Call Back"]
[]
[null,null,null,null,null,null,null,null,null,null,null,"erververv",null,null,"evreverv"]

{"sheet":"7000Print","index":1,"n_rows":49,"n_cols":17,"rows_kept":49,"cut":false,"hidden":true,"merged":[]}
[null,"Column Width"]
["Row Height",8.75,6.5,0,6.6,8.1999999999999993,0,8.1999999999999993,8.1300000000000008,0,8.1300000000000008,8.1300000000000008,0,8.1300000000000008,8.1300000000000008,0,8.1300000000000008]
[34,null,null,null,{"$f":"'7000 Series'!E3","v":0},{"$f":"'7000 Series'!F3","v":0},{"$f":"'7000 Series'!G3","v":0},{"$f":"'7000 Series'!H3","v":0},{"$f":"'7000 Series'!I3","v":0},{"$f":"'7000 Series'!J3","v":0},{"$f":"'7000 Series'!K3","v":0},{"$f":"'7000 Series'!L3","v":0},{"$f":"'7000 Series'!M3","v":0},{"$f":"'7000 Series'!N3","v":0},{"$f":"'7000 Series'!O3","v":"sfsfasv"},{"$f":"'7000 Series'!P3","v":0},{"$f":"'7000 Series'!Q3","v":0}]
[6,null,null,null,{"$f":"'7000 Series'!E4","v":0},{"$f":"'7000 Series'!F4","v":0},{"$f":"'7000 Series'!G4","v":0},{"$f":"'7000 Series'!H4","v":0},{"$f":"'7000 Series'!I4","v":0},{"$f":"'7000 Series'!J4","v":0},{"$f":"'7000 Series'!K4","v":0},{"$f":"'7000 Series'!L4","v":0},{"$f":"'7000 Series'!M4","v":0},{"$f":"'7000 Series'!N4","v":0},{"$f":"'7000 Series'!O4","v":0},{"$f":"'7000 Series'!P4","v":0},{"$f":"'7000 Series'!Q4","v":0}]
[28.25,null,null,null,{"$f":"'7000 Series'!E5","v":0},{"$f":"'7000 Series'!F5","v":0},{"$f":"'7000 Series'!G5","v":0},{"$f":"'7000 Series'!H5","v":0},{"$f":"'7000 Series'!I5","v":0},{"$f":"'7000 Series'!J5","v":0},{"$f":"'7000 Series'!K5","v":0},{"$f":"'7000 Series'!L5","v":0},{"$f":"'7000 Series'!M5","v":0},{"$f":"'7000 Series'!N5","v":0},{"$f":"'7000 Series'!O5","v":0},{"$f":"'7000 Series'!P5","v":0},{"$f":"'7000 Series'!Q5","v":0}]
[0,null,null,null,{"$f":"'7000 Series'!E6","v":0},{"$f":"'7000 Series'!F6","v":0},{"$f":"'7000 Series'!G6","v":0},{"$f":"'7000 Series'!H6","v":0},{"$f":"'7000 Series'!I6","v":0},{"$f":"'7000 Series'!J6","v":0},{"$f":"'7000 Series'!K6","v":0},{"$f":"'7000 Series'!L6","v":0},{"$f":"'7000 Series'!M6","v":0},{"$f":"'7000 Series'!N6","v":0},{"$f":"'7000 Series'!O6","v":0},{"$f":"'7000 Series'!P6","v":0},{"$f":"'7000 Series'!Q6","v":0}]
[28.25,{"$f":"'7000 Series'!B7","v":"dfsdfg"},{"$f":"'7000 Series'!C7","v":0},null,{"$f":"'7000 Series'!E7","v":0},{"$f":"'7000 Series'!F7","v":"fsdfg"},{"$f":"'7000 Series'!G7","v":0},{"$f":"'7000 Series'!H7","v":0},{"$f":"'7000 Series'!I7","v":0},{"$f":"'7000 Series'!J7","v":0},{"$f":"'7000 Series'!K7","v":0},{"$f":"'7000 Series'!L7","v":0},{"$f":"'7000 Series'!M7","v":0},{"$f":"'7000 Series'!N7","v":0},{"$f":"'7000 Series'!O7","v":0},{"$f":"'7000 Series'!P7","v":0},{"$f":"'7000 Series'!Q7","v":0}]
[0,null,null,null,{"$f":"'7000 Series'!E8","v":0},{"$f":"'7000 Series'!F8","v":0},{"$f":"'7000 Series'!G8","v":0},{"$f":"'7000 Series'!H8","v":0},{"$f":"'7000 Series'!I8","v":0},{"$f":"'7000 Series'!J8","v":0},{"$f":"'7000 Series'!K8","v":0},{"$f":"'7000 Series'!L8","v":0},{"$f":"'7000 Series'!M8","v":0},{"$f":"'7000 Series'!N8","v":0},{"$f":"'7000 Series'!O8","v":0},{"$f":"'7000 Series'!P8","v":0},{"$f":"'7000 Series'!Q8","v":0}]
[29.4,{"$f":"'7000 Series'!B9","v":0},{"$f":"'7000 Series'!C9","v":0},null,{"$f":"'7000 Series'!E9","v":0},{"$f":"'7000 Series'!F9","v":0},{"$f":"'7000 Series'!G9","v":0},{"$f":"'7000 Series'!H9","v":0},{"$f":"'7000 Series'!I9","v":0},{"$f":"'7000 Series'!J9","v":0},{"$f":"'7000 Series'!K9","v":0},{"$f":"'7000 Series'!L9","v":0},{"$f":"'7000 Series'!M9","v":0},{"$f":"'7000 Series'!N9","v":0},{"$f":"'7000 Series'!O9","v":0},{"$f":"'7000 Series'!P9","v":0},{"$f":"'7000 Series'!Q9","v":0}]
[0,null,null,null,{"$f":"'7000 Series'!E10","v":0},{"$f":"'7000 Series'!F10","v":0},{"$f":"'7000 Series'!G10","v":0},{"$f":"'7000 Series'!H10","v":0},{"$f":"'7000 Series'!I10","v":0},{"$f":"'7000 Series'!J10","v":0},{"$f":"'7000 Series'!K10","v":0},{"$f":"'7000 Series'!L10","v":0},{"$f":"'7000 Series'!M10","v":0},{"$f":"'7000 Series'!N10","v":0},{"$f":"'7000 Series'!O10","v":0},{"$f":"'7000 Series'!P10","v":0},{"$f":"'7000 Series'!Q10","v":0}]
[28.5,null,null,null,{"$f":"'7000 Series'!E11","v":0},{"$f":"'7000 Series'!F11","v":0},{"$f":"'7000 Series'!G11","v":0},{"$f":"'7000 Series'!H11","v":0},{"$f":"'7000 Series'!I11","v":0},{"$f":"'7000 Series'!J11","v":0},{"$f":"'7000 Series'!K11","v":0},{"$f":"'7000 Series'!L11","v":0},{"$f":"'7000 Series'!M11","v":0},{"$f":"'7000 Series'!N11","v":0},{"$f":"'7000 Series'!O11","v":0},{"$f":"'7000 Series'!P11","v":0},{"$f":"'7000 Series'!Q11","v":0}]
[0,null,null,null,{"$f":"'7000 Series'!E12","v":0},{"$f":"'7000 Series'!F12","v":0},{"$f":"'7000 Series'!G12","v":0},{"$f":"'7000 Series'!H12","v":0},{"$f":"'7000 Series'!I12","v":0},{"$f":"'7000 Series'!J12","v":0},{"$f":"'7000 Series'!K12","v":0},{"$f":"'7000 Series'!L12","v":0},{"$f":"'7000 Series'!M12","v":0},{"$f":"'7000 Series'!N12","v":0},{"$f":"'7000 Series'!O12","v":0},{"$f":"'7000 Series'!P12","v":0},{"$f":"'7000 Series'!Q12","v":0}]
["The",null,null,null,{"$f":"'7000 Series'!E13","v":0},{"$f":"'7000 Series'!F13","v":0},{"$f":"'7000 Series'!G13","v":0},{"$f":"'7000 Series'!H13","v":0},{"$f":"'7000 Series'!I13","v":0},{"$f":"'7000 Series'!J13","v":0},{"$f":"'7000 Series'!K13","v":0},{"$f":"'7000 Series'!L13","v":0},{"$f":"'7000 Series'!M13","v":0},{"$f":"'7000 Series'!N13","v":0},{"$f":"'7000 Series'!O13","v":0},{"$f":"'7000 Series'!P13","v":0},{"$f":"'7000 Series'!Q13","v":"sdvrvava"}]
[0,null,null,null,{"$f":"'7000 Series'!E14","v":0},{"$f":"'7000 Series'!F14","v":0},{"$f":"'7000 Series'!G14","v":0},{"$f":"'7000 Series'!H14","v":0},{"$f":"'7000 Series'!I14","v":0},{"$f":"'7000 Series'!J14","v":0},{"$f":"'7000 Series'!K14","v":0},{"$f":"'7000 Series'!L14","v":0},{"$f":"'7000 Series'!M14","v":0},{"$f":"'7000 Series'!N14","v":0},{"$f":"'7000 Series'!O14","v":0},{"$f":"'7000 Series'!P14","v":0},{"$f":"'7000 Series'!Q14","v":0}]
["height",{"$f":"'7000 Series'!B15","v":0},{"$f":"'7000 Series'!C15","v":0},null,{"$f":"'7000 Series'!E15","v":0},{"$f":"'7000 Series'!F15","v":0},{"$f":"'7000 Series'!G15","v":0},{"$f":"'7000 Series'!H15","v":0},{"$f":"'7000 Series'!I15","v":0},{"$f":"'7000 Series'!J15","v":0},{"$f":"'7000 Series'!K15","v":0},{"$f":"'7000 Series'!L15","v":0},{"$f":"'7000 Series'!M15","v":0},{"$f":"'7000 Series'!N15","v":0},{"$f":"'7000 Series'!O15","v":0},{"$f":"'7000 Series'!P15","v":0},{"$f":"'7000 Series'!Q15","v":0}]
[0,null,null,null,{"$f":"'7000 Series'!E16","v":0},{"$f":"'7000 Series'!F16","v":0},{"$f":"'7000 Series'!G16","v":0},{"$f":"'7000 Series'!H16","v":0},{"$f":"'7000 Series'!I16","v":0},{"$f":"'7000 Series'!J16","v":0},{"$f":"'7000 Series'!K16","v":0},{"$f":"'7000 Series'!L16","v":0},{"$f":"'7000 Series'!M16","v":0},{"$f":"'7000 Series'!N16","v":0},{"$f":"'7000 Series'!O16","v":0},{"$f":"'7000 Series'!P16","v":0},{"$f":"'7000 Series'!Q16","v":0}]
["of",{"$f":"'7000 Series'!B17","v":0},{"$f":"'7000 Series'!C17","v":0},null,{"$f":"'7000 Series'!E17","v":0},{"$f":"'7000 Series'!F17","v":0},{"$f":"'7000 Series'!G17","v":0},{"$f":"'7000 Series'!H17","v":0},{"$f":"'7000 Series'!I17","v":0},{"$f":"'7000 Series'!J17","v":0},{"$f":"'7000 Series'!K17","v":0},{"$f":"'7000 Series'!L17","v":0},{"$f":"'7000 Series'!M17","v":0},{"$f":"'7000 Series'!N17","v":0},{"$f":"'7000 Series'!O17","v":0},{"$f":"'7000 Series'!P17","v":0},{"$f":"'7000 Series'!Q17","v":0}]
[0,null,null,null,{"$f":"'7000 Series'!E18","v":0},{"$f":"'7000 Series'!F18","v":0},{"$f":"'7000 Series'!G18","v":0},{"$f":"'7000 Series'!H18","v":0},{"$f":"'7000 Series'!I18","v":0},{"$f":"'7000 Series'!J18","v":0},{"$f":"'7000 Series'!K18","v":0},{"$f":"'7000 Series'!L18","v":0},{"$f":"'7000 Series'!M18","v":0},{"$f":"'7000 Series'!N18","v":0},{"$f":"'7000 Series'!O18","v":0},{"$f":"'7000 Series'!P18","v":0},{"$f":"'7000 Series'!Q18","v":0}]
["these",null,null,null,{"$f":"'7000 Series'!E19","v":0},{"$f":"'7000 Series'!F19","v":0},{"$f":"'7000 Series'!G19","v":0},{"$f":"'7000 Series'!H19","v":0},{"$f":"'7000 Series'!I19","v":0},{"$f":"'7000 Series'!J19","v":0},{"$f":"'7000 Series'!K19","v":0},{"$f":"'7000 Series'!L19","v":0},{"$f":"'7000 Series'!M19","v":0},{"$f":"'7000 Series'!N19","v":0},{"$f":"'7000 Series'!O19","v":0},{"$f":"'7000 Series'!P19","v":0},{"$f":"'7000 Series'!Q19","v":0}]
[0,null,null,null,{"$f":"'7000 Series'!E20","v":0},{"$f":"'7000 Series'!F20","v":0},{"$f":"'7000 Series'!G20","v":0},{"$f":"'7000 Series'!H20","v":0},{"$f":"'7000 Series'!I20","v":0},{"$f":"'7000 Series'!J20","v":0},{"$f":"'7000 Series'!K20","v":0},{"$f":"'7000 Series'!L20","v":0},{"$f":"'7000 Series'!M20","v":0},{"$f":"'7000 Series'!N20","v":0},{"$f":"'7000 Series'!O20","v":0},{"$f":"'7000 Series'!P20","v":0},{"$f":"'7000 Series'!Q20","v":0}]
["rows",null,null,null,{"$f":"'7000 Series'!E21","v":0},{"$f":"'7000 Series'!F21","v":0},{"$f":"'7000 Series'!G21","v":0},{"$f":"'7000 Series'!H21","v":0},{"$f":"'7000 Series'!I21","v":0},{"$f":"'7000 Series'!J21","v":0},{"$f":"'7000 Series'!K21","v":0},{"$f":"'7000 Series'!L21","v":0},{"$f":"'7000 Series'!M21","v":0},{"$f":"'7000 Series'!N21","v":0},{"$f":"'7000 Series'!O21","v":0},{"$f":"'7000 Series'!P21","v":0},{"$f":"'7000 Series'!Q21","v":"rvrverv"}]
[0,null,null,null,{"$f":"'7000 Series'!E22","v":0},{"$f":"'7000 Series'!F22","v":0},{"$f":"'7000 Series'!G22","v":0},{"$f":"'7000 Series'!H22","v":0},{"$f":"'7000 Series'!I22","v":0},{"$f":"'7000 Series'!J22","v":0},{"$f":"'7000 Series'!K22","v":0},{"$f":"'7000 Series'!L22","v":0},{"$f":"'7000 Series'!M22","v":0},{"$f":"'7000 Series'!N22","v":0},{"$f":"'7000 Series'!O22","v":0},{"$f":"'7000 Series'!P22","v":0},{"$f":"'7000 Series'!Q22","v":0}]
["is",{"$f":"'7000 Series'!B23","v":0},{"$f":"'7000 Series'!C23","v":0},null,{"$f":"'7000 Series'!E23","v":0},{"$f":"'7000 Series'!F23","v":0},{"$f":"'7000 Series'!G23","v":0},{"$f":"'7000 Series'!H23","v":0},{"$f":"'7000 Series'!I23","v":0},{"$f":"'7000 Series'!J23","v":0},{"$f":"'7000 Series'!K23","v":0},{"$f":"'7000 Series'!L23","v":0},{"$f":"'7000 Series'!M23","v":0},{"$f":"'7000 Series'!N23","v":0},{"$f":"'7000 Series'!O23","v":0},{"$f":"'7000 Series'!P23","v":0},{"$f":"'7000 Series'!Q23","v":0}]
[0,null,null,null,{"$f":"'7000 Series'!E24","v":0},{"$f":"'7000 Series'!F24","v":0},{"$f":"'7000 Series'!G24","v":0},{"$f":"'7000 Series'!H24","v":0},{"$f":"'7000 Series'!I24","v":0},{"$f":"'7000 Series'!J24","v":0},{"$f":"'7000 Series'!K24","v":0},{"$f":"'7000 Series'!L24","v":0},{"$f":"'7000 Series'!M24","v":0},{"$f":"'7000 Series'!N24","v":0},{"$f":"'7000 Series'!O24","v":0},{"$f":"'7000 Series'!P24","v":0},{"$f":"'7000 Series'!Q24","v":0}]
["adjusted",{"$f":"'7000 Series'!B25","v":0},{"$f":"'7000 Series'!C25","v":0},null,{"$f":"'7000 Series'!E25","v":0},{"$f":"'7000 Series'!F25","v":0},{"$f":"'7000 Series'!G25","v":0},{"$f":"'7000 Series'!H25","v":0},{"$f":"'7000 Series'!I25","v":0},{"$f":"'7000 Series'!J25","v":0},{"$f":"'7000 Series'!K25","v":0},{"$f":"'7000 Series'!L25","v":0},{"$f":"'7000 Series'!M25","v":0},{"$f":"'7000 Series'!N25","v":0},{"$f":"'7000 Series'!O25","v":0},{"$f":"'7000 Series'!P25","v":0},{"$f":"'7000 Series'!Q25","v":0}]
[null,null,null,null,{"$f":"'7000 Series'!E26","v":0},{"$f":"'7000 Series'!F26","v":0},{"$f":"'7000 Series'!G26","v":0},{"$f":"'7000 Series'!H26","v":0},{"$f":"'7000 Series'!I26","v":0},{"$f":"'7000 Series'!J26","v":0},{"$f":"'7000 Series'!K26","v":0},{"$f":"'7000 Series'!L26","v":0},{"$f":"'7000 Series'!M26","v":0},{"$f":"'7000 Series'!N26","v":0},{"$f":"'7000 Series'!O26","v":0},{"$f":"'7000 Series'!P26","v":0},{"$f":"'7000 Series'!Q26","v":0}]
["according",null,null,null,{"$f":"'7000 Series'!E27","v":0},{"$f":"'7000 Series'!F27","v":0},{"$f":"'7000 Series'!G27","v":0},{"$f":"'7000 Series'!H27","v":0},{"$f":"'7000 Series'!I27","v":0},{"$f":"'7000 Series'!J27","v":0},{"$f":"'7000 Series'!K27","v":0},{"$f":"'7000 Series'!L27","v":0},{"$f":"'7000 Series'!M27","v":0},{"$f":"'7000 Series'!N27","v":0},{"$f":"'7000 Series'!O27","v":0},{"$f":"'7000 Series'!P27","v":0},{"$f":"'7000 Series'!Q27","v":0}]
[0,null,null,null,{"$f":"'7000 Series'!E28","v":0},{"$f":"'7000 Series'!F28","v":0},{"$f":"'7000 Series'!G28","v":0},{"$f":"'7000 Series'!H28","v":0},{"$f":"'7000 Series'!I28","v":0},{"$f":"'7000 Series'!J28","v":0},{"$f":"'7000 Series'!K28","v":0},{"$f":"'7000 Series'!L28","v":0},{"$f":"'7000 Series'!M28","v":0},{"$f":"'7000 Series'!N28","v":0},{"$f":"'7000 Series'!O28","v":0},{"$f":"'7000 Series'!P28","v":0},{"$f":"'7000 Series'!Q28","v":0}]
["to",null,null,null,{"$f":"'7000 Series'!E29","v":0},{"$f":"'7000 Series'!F29","v":0},{"$f":"'7000 Series'!G29","v":0},{"$f":"'7000 Series'!H29","v":0},{"$f":"'7000 Series'!I29","v":0},{"$f":"'7000 Series'!J29","v":0},{"$f":"'7000 Series'!K29","v":0},{"$f":"'7000 Series'!L29","v":0},{"$f":"'7000 Series'!M29","v":0},{"$f":"'7000 Series'!N29","v":0},{"$f":"'7000 Series'!O29","v":0},{"$f":"'7000 Series'!P29","v":0},{"$f":"'7000 Series'!Q29","v":0}]
[0,null,null,null,{"$f":"'7000 Series'!E30","v":0},{"$f":"'7000 Series'!F30","v":0},{"$f":"'7000 Series'!G30","v":0},{"$f":"'7000 Series'!H30","v":0},{"$f":"'7000 Series'!I30","v":0},{"$f":"'7000 Series'!J30","v":0},{"$f":"'7000 Series'!K30","v":0},{"$f":"'7000 Series'!L30","v":0},{"$f":"'7000 Series'!M30","v":0},{"$f":"'7000 Series'!N30","v":0},{"$f":"'7000 Series'!O30","v":0},{"$f":"'7000 Series'!P30","v":0},{"$f":"'7000 Series'!Q30","v":0}]
["the",{"$f":"'7000 Series'!B31","v":0},{"$f":"'7000 Series'!C31","v":0},null,{"$f":"'7000 Series'!E31","v":0},{"$f":"'7000 Series'!F31","v":0},{"$f":"'7000 Series'!G31","v":0},{"$f":"'7000 Series'!H31","v":0},{"$f":"'7000 Series'!I31","v":0},{"$f":"'7000 Series'!J31","v":0},{"$f":"'7000 Series'!K31","v":0},{"$f":"'7000 Series'!L31","v":0},{"$f":"'7000 Series'!M31","v":0},{"$f":"'7000 Series'!N31","v":0},{"$f":"'7000 Series'!O31","v":0},{"$f":"'7000 Series'!P31","v":0},{"$f":"'7000 Series'!Q31","v":0}]
[0,null,null,null,{"$f":"'7000 Series'!E32","v":0},{"$f":"'7000 Series'!F32","v":0},{"$f":"'7000 Series'!G32","v":0},{"$f":"'7000 Series'!H32","v":0},{"$f":"'7000 Series'!I32","v":0},{"$f":"'7000 Series'!J32","v":0},{"$f":"'7000 Series'!K32","v":0},{"$f":"'7000 Series'!L32","v":0},{"$f":"'7000 Series'!M32","v":0},{"$f":"'7000 Series'!N32","v":0},{"$f":"'7000 Series'!O32","v":0},{"$f":"'7000 Series'!P32","v":0},{"$f":"'7000 Series'!Q32","v":0}]
["height",{"$f":"'7000 Series'!B33","v":0},{"$f":"'7000 Series'!C33","v":0},null,{"$f":"'7000 Series'!E33","v":0},{"$f":"'7000 Series'!F33","v":"vrrvrv"},{"$f":"'7000 Series'!G33","v":0},{"$f":"'7000 Series'!H33","v":0},{"$f":"'7000 Series'!I33","v":0},{"$f":"'7000 Series'!J33","v":0},{"$f":"'7000 Series'!K33","v":0},{"$f":"'7000 Series'!L33","v":0},{"$f":"'7000 Series'!M33","v":0},{"$f":"'7000 Series'!N33","v":0},{"$f":"'7000 Series'!O33","v":0},{"$f":"'7000 Series'!P33","v":0},{"$f":"'7000 Series'!Q33","v":0}]
[0,null,null,null,{"$f":"'7000 Series'!E34","v":0},{"$f":"'7000 Series'!F34","v":0},{"$f":"'7000 Series'!G34","v":0},{"$f":"'7000 Series'!H34","v":0},{"$f":"'7000 Series'!I34","v":0},{"$f":"'7000 Series'!J34","v":0},{"$f":"'7000 Series'!K34","v":0},{"$f":"'7000 Series'!L34","v":0},{"$f":"'7000 Series'!M34","v":0},{"$f":"'7000 Series'!N34","v":0},{"$f":"'7000 Series'!O34","v":0},{"$f":"'7000 Series'!P34","v":0},{"$f":"'7000 Series'!Q34","v":0}]
["selected",null,null,null,{"$f":"'7000 Series'!E35","v":0},{"$f":"'7000 Series'!F35","v":0},{"$f":"'7000 Series'!G35","v":0},{"$f":"'7000 Series'!H35","v":0},{"$f":"'7000 Series'!I35","v":0},{"$f":"'7000 Series'!J35","v":0},{"$f":"'7000 Series'!K35","v":0},{"$f":"'7000 Series'!L35","v":0},{"$f":"'7000 Series'!M35","v":0},{"$f":"'7000 Series'!N35","v":0},{"$f":"'7000 Series'!O35","v":0},{"$f":"'7000 Series'!P35","v":0},{"$f":"'7000 Series'!Q35","v":0}]
[0,null,null,null,{"$f":"'7000 Series'!E36","v":0},{"$f":"'7000 Series'!F36","v":0},{"$f":"'7000 Series'!G36","v":0},{"$f":"'7000 Series'!H36","v":0},{"$f":"'7000 Series'!I36","v":0},{"$f":"'7000 Series'!J36","v":0},{"$f":"'7000 Series'!K36","v":0},{"$f":"'7000 Series'!L36","v":0},{"$f":"'7000 Series'!M36","v":0},{"$f":"'7000 Series'!N36","v":0},{"$f":"'7000 Series'!O36","v":0},{"$f":"'7000 Series'!P36","v":0},{"$f":"'7000 Series'!Q36","v":0}]
["in",null,null,null,{"$f":"'7000 Series'!E37","v":0},{"$f":"'7000 Series'!F37","v":0},{"$f":"'7000 Series'!G37","v":0},{"$f":"'7000 Series'!H37","v":0},{"$f":"'7000 Series'!I37","v":0},{"$f":"'7000 Series'!J37","v":0},{"$f":"'7000 Series'!K37","v":0},{"$f":"'7000 Series'!L37","v":0},{"$f":"'7000 Series'!M37","v":0},{"$f":"'7000 Series'!N37","v":0},{"$f":"'7000 Series'!O37","v":0},{"$f":"'7000 Series'!P37","v":0},{"$f":"'7000 Series'!Q37","v":0}]
[0,null,null,null,{"$f":"'7000 Series'!E38","v":0},{"$f":"'7000 Series'!F38","v":0},{"$f":"'7000 Series'!G38","v":0},{"$f":"'7000 Series'!H38","v":0},{"$f":"'7000 Series'!I38","v":0},{"$f":"'7000 Series'!J38","v":0},{"$f":"'7000 Series'!K38","v":0},{"$f":"'7000 Series'!L38","v":0},{"$f":"'7000 Series'!M38","v":0},{"$f":"'7000 Series'!N38","v":0},{"$f":"'7000 Series'!O38","v":0},{"$f":"'7000 Series'!P38","v":0},{"$f":"'7000 Series'!Q38","v":0}]
["Rows",{"$f":"'7000 Series'!B39","v":0},{"$f":"'7000 Series'!C39","v":0},null,{"$f":"'7000 Series'!E39","v":0},{"$f":"'7000 Series'!F39","v":0},{"$f":"'7000 Series'!G39","v":0},{"$f":"'7000 Series'!H39","v":0},{"$f":"'7000 Series'!I39","v":0},{"$f":"'7000 Series'!J39","v":0},{"$f":"'7000 Series'!K39","v":0},{"$f":"'7000 Series'!L39","v":0},{"$f":"'7000 Series'!M39","v":0},{"$f":"'7000 Series'!N39","v":0},{"$f":"'7000 Series'!O39","v":0},{"$f":"'7000 Series'!P39","v":0},{"$f":"'7000 Series'!Q39","v":0}]
[0,null,null,null,{"$f":"'7000 Series'!E40","v":0},{"$f":"'7000 Series'!F40","v":0},{"$f":"'7000 Series'!G40","v":0},{"$f":"'7000 Series'!H40","v":0},{"$f":"'7000 Series'!I40","v":0},{"$f":"'7000 Series'!J40","v":0},{"$f":"'7000 Series'!K40","v":0},{"$f":"'7000 Series'!L40","v":0},{"$f":"'7000 Series'!M40","v":0},{"$f":"'7000 Series'!N40","v":0},{"$f":"'7000 Series'!O40","v":0},{"$f":"'7000 Series'!P40","v":0},{"$f":"'7000 Series'!Q40","v":0}]
[3,{"$f":"'7000 Series'!B41","v":0},{"$f":"'7000 Series'!C41","v":0},null,{"$f":"'7000 Series'!E41","v":0},{"$f":"'7000 Series'!F41","v":0},{"$f":"'7000 Series'!G41","v":0},{"$f":"'7000 Series'!H41","v":0},{"$f":"'7000 Series'!I41","v":0},{"$f":"'7000 Series'!J41","v":0},{"$f":"'7000 Series'!K41","v":0},{"$f":"'7000 Series'!L41","v":0},{"$f":"'7000 Series'!M41","v":0},{"$f":"'7000 Series'!N41","v":0},{"$f":"'7000 Series'!O41","v":0},{"$f":"'7000 Series'!P41","v":0},{"$f":"'7000 Series'!Q41","v":0}]
[0,null,null,null,{"$f":"'7000 Series'!E42","v":0},{"$f":"'7000 Series'!F42","v":0},{"$f":"'7000 Series'!G42","v":0},{"$f":"'7000 Series'!H42","v":0},{"$f":"'7000 Series'!I42","v":0},{"$f":"'7000 Series'!J42","v":0},{"$f":"'7000 Series'!K42","v":0},{"$f":"'7000 Series'!L42","v":0},{"$f":"'7000 Series'!M42","v":0},{"$f":"'7000 Series'!N42","v":0},{"$f":"'7000 Series'!O42","v":0},{"$f":"'7000 Series'!P42","v":0},{"$f":"'7000 Series'!Q42","v":0}]
["to",null,null,null,{"$f":"'7000 Series'!E43","v":0},{"$f":"'7000 Series'!F43","v":0},{"$f":"'7000 Series'!G43","v":0},{"$f":"'7000 Series'!H43","v":0},{"$f":"'7000 Series'!I43","v":0},{"$f":"'7000 Series'!J43","v":0},{"$f":"'7000 Series'!K43","v":0},{"$f":"'7000 Series'!L43","v":0},{"$f":"'7000 Series'!M43","v":0},{"$f":"'7000 Series'!N43","v":0},{"$f":"'7000 Series'!O43","v":0},{"$f":"'7000 Series'!P43","v":0},{"$f":"'7000 Series'!Q43","v":0}]
[0,null,null,null,{"$f":"'7000 Series'!E44","v":0},{"$f":"'7000 Series'!F44","v":0},{"$f":"'7000 Series'!G44","v":0},{"$f":"'7000 Series'!H44","v":0},{"$f":"'7000 Series'!I44","v":0},{"$f":"'7000 Series'!J44","v":0},{"$f":"'7000 Series'!K44","v":0},{"$f":"'7000 Series'!L44","v":0},{"$f":"'7000 Series'!M44","v":0},{"$f":"'7000 Series'!N44","v":0},{"$f":"'7000 Series'!O44","v":0},{"$f":"'7000 Series'!P44","v":0},{"$f":"'7000 Series'!Q44","v":0}]
[11,null,null,null,{"$f":"'7000 Series'!E45","v":0},{"$f":"'7000 Series'!F45","v":0},{"$f":"'7000 Series'!G45","v":0},{"$f":"'7000 Series'!H45","v":0},{"$f":"'7000 Series'!I45","v":0},{"$f":"'7000 Series'!J45","v":0},{"$f":"'7000 Series'!K45","v":0},{"$f":"'7000 Series'!L45","v":0},{"$f":"'7000 Series'!M45","v":0},{"$f":"'7000 Series'!N45","v":0},{"$f":"'7000 Series'!O45","v":0},{"$f":"'7000 Series'!P45","v":0},{"$f":"'7000 Series'!Q45","v":0}]
[0,null,null,null,{"$f":"'7000 Series'!E46","v":0},{"$f":"'7000 Series'!F46","v":0},{"$f":"'7000 Series'!G46","v":0},{"$f":"'7000 Series'!H46","v":0},{"$f":"'7000 Series'!I46","v":0},{"$f":"'7000 Series'!J46","v":0},{"$f":"'7000 Series'!K46","v":0},{"$f":"'7000 Series'!L46","v":0},{"$f":"'7000 Series'!M46","v":0},{"$f":"'7000 Series'!N46","v":0},{"$f":"'7000 Series'!O46","v":0},{"$f":"'7000 Series'!P46","v":0},{"$f":"'7000 Series'!Q46","v":0}]
["Please see",{"$f":"'7000 Series'!B47","v":0},{"$f":"'7000 Series'!C47","v":0},null,{"$f":"'7000 Series'!E47","v":0},{"$f":"'7000 Series'!F47","v":0},{"$f":"'7000 Series'!G47","v":0},{"$f":"'7000 Series'!H47","v":0},{"$f":"'7000 Series'!I47","v":0},{"$f":"'7000 Series'!J47","v":0},{"$f":"'7000 Series'!K47","v":0},{"$f":"'7000 Series'!L47","v":"erververv"},{"$f":"'7000 Series'!M47","v":0},{"$f":"'7000 Series'!N47","v":0},{"$f":"'7000 Series'!O47","v":"evreverv"},{"$f":"'7000 Series'!P47","v":0},{"$f":"'7000 Series'!Q47","v":0}]
[0,null,null,null,{"$f":"'7000 Series'!E48","v":0},{"$f":"'7000 Series'!F48","v":0},{"$f":"'7000 Series'!G48","v":0},{"$f":"'7000 Series'!H48","v":0},{"$f":"'7000 Series'!I48","v":0},{"$f":"'7000 Series'!J48","v":0},{"$f":"'7000 Series'!K48","v":0},{"$f":"'7000 Series'!L48","v":0},{"$f":"'7000 Series'!M48","v":0},{"$f":"'7000 Series'!N48","v":0},{"$f":"'7000 Series'!O48","v":0},{"$f":"'7000 Series'!P48","v":0},{"$f":"'7000 Series'!Q48","v":0}]
["Comments",{"$f":"'7000 Series'!B49","v":0},{"$f":"'7000 Series'!C49","v":0},null,{"$f":"'7000 Series'!E49","v":0},{"$f":"'7000 Series'!F49","v":0},{"$f":"'7000 Series'!G49","v":0},{"$f":"'7000 Series'!H49","v":0},{"$f":"'7000 Series'!I49","v":0},{"$f":"'7000 Series'!J49","v":0},{"$f":"'7000 Series'!K49","v":0},{"$f":"'7000 Series'!L49","v":0},{"$f":"'7000 Series'!M49","v":0},{"$f":"'7000 Series'!N49","v":0},{"$f":"'7000 Series'!O49","v":0},{"$f":"'7000 Series'!P49","v":0},{"$f":"'7000 Series'!Q49","v":0}]

{"sheet":"Mixed","index":2,"n_rows":58,"n_cols":27,"rows_kept":58,"cut":false,"hidden":false,"merged":[]}
[null,3,{"$f":"Mix_LeftRight","v":2.2999999999999998},2,7.22,{"$f":"$D$1","v":2},{"$f":"$E$1","v":7.22},{"$f":"$D$1","v":2},{"$f":"$E$1","v":7.22},{"$f":"$D$1","v":2},{"$f":"$E$1","v":7.22},{"$f":"$D$1","v":2},2,{"$f":"$E$1","v":7.22},{"$f":"$D$1","v":2},2.4,0.85,{"$f":"$E$1","v":7.22},1.4,{"$f":"$E$1","v":7.22},{"$f":"$S$1","v":1.4},{"$f":"$E$1","v":7.22},{"$f":"$Q$1","v":0.85},1]
[10]
[{"$f":"Mix_UpDown","v":14}]
[19.5,null,null,null,null,null,null,null,null,null,null,null,null,null,null,null,null,null,null,null,null,null,null,null,null,null,"Clear Underlay Button Labels"]
[14.75]
[19.399999999999999]
[{"$f":"$A$5","v":14.75}]
[{"$f":"$A$6","v":19.399999999999999}]
[{"$f":"$A$5","v":14.75},null,null,null,null,null,null,null,null,null,null,null,null,null,null,null,null,null,null,null,null,null,null,null,null,null,"When using a printer for the first time test"]
[{"$f":"$A$6","v":19.399999999999999},null,null,null,null,null,null,null,null,null,null,null,null,null,null,null,null,null,null,null,null,null,null,null,null,null,"alignment by printing to plain A4 paper"]
[6]
[{"$f":"$A$5","v":14.75},null,null,null,null,null,null,null,null,null,null,null,null,null,null,null,null,null,null,null,null,null,null,null,null,null,"Use Print Macro Button to print Labels"]
[{"$f":"$A$6","v":19.399999999999999},null,null,null,null,null,null,null,null,null,null,null,null,null,null,null,null,null,null,null,null,null,null,null,null,null,"without printing background layout"]
[{"$f":"$A$5","v":14.75}]
[{"$f":"$A$6","v":19.399999999999999}]
[{"$f":"$A$5","v":14.75}]
[{"$f":"$A$6","v":19.399999999999999}]
[{"$f":"$A$11","v":6}]
[{"$f":"$A$5","v":14.75},null,null,null,null,null,null,null,null,null,null,null,null,null,null,null,null,null,null,null,null,null,null,null,null,null,"Align print out to Left or Right"]
[{"$f":"$A$6","v":19.399999999999999},null,null,null,null,null,null,null,null,null,null,null,null,null,null,null,null,null,null,null,null,null,null,null,null,null,"(fine tune printout page positioning)"]
[{"$f":"$A$5","v":14.75},null,null,null,null,null,null,null,null,null,null,null,null,null,null,null,null,null,null,null,null,null,null,null,null,2.2999999999999998,"Margin left side of page"]
[{"$f":"$A$6","v":19.399999999999999}]
[{"$f":"$A$5","v":14.75}]
[{"$f":"$A$6","v":19.399999999999999}]
[{"$f":"$A$5","v":14.75}]
[{"$f":"$A$6","v":19.399999999999999},null,null,null,null,null,null,null,null,null,null,null,null,null,null,null,null,null,null,null,null,null,null,null,null,null,"Align print out Up or Down"]
[{"$f":"$A$11","v":6}]
[{"$f":"$A$5","v":14.75},null,null,null,null,null,null,null,null,null,null,null,null,null,null,null,null,null,null,null,null,null,null,null,null,null,"(fine tune printout page positioning)"]
[{"$f":"$A$6","v":19.399999999999999},null,null,null,null,null,null,null,null,null,null,null,null,null,null,null,null,null,null,null,null,null,null,null,null,14,"Margin from top of page"]
[{"$f":"$A$5","v":14.75}]
[{"$f":"$A$6","v":19.399999999999999}]
[17]
[18]
[18]
[19.5]
[{"$f":"$A$5","v":14.75}]
[{"$f":"$A$6","v":19.399999999999999}]
[{"$f":"$A$5","v":14.75}]
[{"$f":"$A$6","v":19.399999999999999}]
[{"$f":"$A$5","v":14.75}]
[{"$f":"$A$6","v":19.399999999999999}]
[{"$f":"$A$5","v":14.75}]
[{"$f":"$A$6","v":19.399999999999999}]
[{"$f":"$A$5","v":14.75}]
[{"$f":"$A$6","v":19.399999999999999}]
[{"$f":"$A$5","v":14.75}]
[{"$f":"$A$6","v":19.399999999999999}]
[{"$f":"$A$5","v":14.75}]
[{"$f":"$A$6","v":19.399999999999999}]
[{"$f":"$A$5","v":14.75}]
[{"$f":"$A$6","v":19.399999999999999}]
[18]
[]
[]
[]
[]
[]
[null,null,null,null,null,null,null,null,null,null,null,null,null,null,null,null,null,null,null,null,null,null,null,null,null,null,"Advanced Adjust Columns and Rows"]

{"sheet":"4x9030","index":3,"n_rows":42,"n_cols":38,"rows_kept":42,"cut":false,"hidden":false,"merged":[]}
[null,3,{"$f":"LeftRight_4x30Btn","v":1.4},0.85,7.22,1.4,{"$f":"$E$1","v":7.22},{"$f":"$F$1","v":1.4},{"$f":"$E$1","v":7.22},{"$f":"$D$1","v":0.85},4.25,{"$f":"$D$1","v":0.85},{"$f":"$E$1","v":7.22},{"$f":"$F$1","v":1.4},{"$f":"$E$1","v":7.22},{"$f":"$F$1","v":1.4},{"$f":"$E$1","v":7.22},{"$f":"$D$1","v":0.85},{"$f":"$K$1","v":4.25},{"$f":"$D$1","v":0.85},{"$f":"$E$1","v":7.22},{"$f":"$F$1","v":1.4},{"$f":"$E$1","v":7.22},{"$f":"$F$1","v":1.4},{"$f":"$E$1","v":7.22},{"$f":"$D$1","v":0.85},{"$f":"$K$1","v":4.25},{"$f":"$D$1","v":0.85},{"$f":"$E$1","v":7.22},{"$f":"$F$1","v":1.4},{"$f":"$E$1","v":7.22},{"$f":"$F$1","v":1.4},{"$f":"$E$1","v":7.22},{"$f":"$D$1","v":0.85},1]
[10]
[{"$f":"UpDown_4x30Btn","v":10.5}]
[19.5,null,null,null,null,null,null,null,null,null,null,null,null,null,null,null,null,null,null,null,null,null,null,null,null,null,null,null,null,null,null,null,null,null,null,null,null,"Clear Underlay Button Labels"]
[14.75]
[19.399999999999999]
[{"$f":"$A$5","v":14.75}]
[{"$f":"$A$6","v":19.399999999999999}]
[{"$f":"$A$5","v":14.75},null,null,null,null,null,null,null,null,null,null,null,null,null,null,null,null,null,null,null,null,null,null,null,null,null,null,null,null,null,null,null,null,null,null,null,null,"When using a printer for the first time test"]
[{"$f":"$A$6","v":19.399999999999999},null,null,null,null,null,null,null,null,null,null,null,null,null,null,null,null,null,null,null,null,null,null,null,null,null,null,null,null,null,null,null,null,null,null,null,null,"alignment by printing to plain A4 paper"]
[5.8]
[{"$f":"$A$5","v":14.75},null,null,null,null,null,null,null,null,null,null,null,null,null,null,null,null,null,null,null,null,null,null,null,null,null,null,null,null,null,null,null,null,null,null,null,null,"Use Print Macro Button to print Labels"]
[{"$f":"$A$6","v":19.399999999999999},null,null,null,null,null,null,null,null,null,null,null,null,null,null,null,null,null,null,null,null,null,null,null,null,null,null,null,null,null,null,null,null,null,null,null,null,"without printing background layout"]
[{"$f":"$A$5","v":14.75}]
[{"$f":"$A$6","v":19.399999999999999}]
[{"$f":"$A$5","v":14.75}]
[{"$f":"$A$6","v":19.399999999999999}]
[{"$f":"$A$11","v":5.8}]
[{"$f":"$A$5","v":14.75},null,null,null,null,null,null,null,null,null,null,null,null,null,null,null,null,null,null,null,null,null,null,null,null,null,null,null,null,null,null,null,null,null,null,null,null,"Align print out to Left or Right"]
[{"$f":"$A$6","v":19.399999999999999},null,null,null,null,null,null,null,null,null,null,null,null,null,null,null,null,null,null,null,null,null,null,null,null,null,null,null,null,null,null,null,null,null,null,null,null,"(fine tune printout page positioning)"]
[{"$f":"$A$5","v":14.75},null,null,null,null,null,null,null,null,null,null,null,null,null,null,null,null,null,null,null,null,null,null,null,null,null,null,null,null,null,null,null,null,null,null,null,1.4,"Margin left side of page"]
[{"$f":"$A$6","v":19.399999999999999}]
[{"$f":"$A$5","v":14.75}]
[{"$f":"$A$6","v":19.399999999999999}]
[{"$f":"$A$5","v":14.75}]
[{"$f":"$A$6","v":19.399999999999999},null,null,null,null,null,null,null,null,null,null,null,null,null,null,null,null,null,null,null,null,null,null,null,null,null,null,null,null,null,null,null,null,null,null,null,null,"Align print out Up or Down"]
[{"$f":"$A$11","v":5.8}]
[{"$f":"$A$5","v":14.75},null,null,null,null,null,null,null,null,null,null,null,null,null,null,null,null,null,null,null,null,null,null,null,null,null,null,null,null,null,null,null,null,null,null,null,null,"(fine tune printout page positioning)"]
[{"$f":"$A$6","v":19.399999999999999},null,null,null,null,null,null,null,null,null,null,null,null,null,null,null,null,null,null,null,null,null,null,null,null,null,null,null,null,null,null,null,null,null,null,null,10.5,"Margin from top of page"]
[{"$f":"$A$5","v":14.75}]
[{"$f":"$A$6","v":19.399999999999999}]
[17]
[12]
[]
[]
[]
[]
[]
[]
[]
[]
[null,null,null,null,null,null,null,null,null,null,null,null,null,null,null,null,null,null,null,null,null,null,null,null,null,null,null,null,null,null,null,null,null,null,null,null,null,"Advanced Adjust Columns and Rows"]

{"sheet":"old4x30","index":4,"n_rows":29,"n_cols":35,"rows_kept":29,"cut":false,"hidden":true,"merged":[]}
[]
[]
[]
[]
[null,null,1,null,null,null,null,null,null,null,1,null,null,null,null,null,null,null,1,null,null,null,null,null,null,null,1]
[]
[null,null,2,null,null,null,null,null,null,null,2,null,null,null,null,null,null,null,2,null,null,null,null,null,null,null,2,null,null,null,null,null,null,null,"Update Column Width"]
[]
[null,null,3,null,null,null,null,null,null,null,3,null,null,null,null,null,null,null,3,null,null,null,null,null,null,null,3,null,null,null,null,null,null,null,"Update Row Hight"]
[]
[null,null,4,null,null,null,null,null,null,null,4,null,null,null,null,null,null,null,4,null,null,null,null,null,null,null,4,null,null,null,null,null,null,null,"Reset Columns and Rows"]
[]
[null,null,5,null,null,null,null,null,null,null,5,null,null,null,null,null,null,null,5,null,null,null,null,null,null,null,5]
[null,null,null,null,null,null,null,null,null,null,null,null,null,null,null,null,null,null,null,null,null,null,null,null,null,null,null,null,null,null,null,null,null,null,"Clear Underlay Labels"]
[null,null,6,null,null,null,null,null,null,null,6,null,null,null,null,null,null,null,6,null,null,null,null,null,null,null,6]
[]
[null,null,7,null,null,null,null,null,null,null,7,null,null,null,null,null,null,null,7,null,null,null,null,null,null,null,7]
[]
[null,null,8,null,null,null,null,null,null,null,8,null,null,null,null,null,null,null,8,null,null,null,null,null,null,null,8]
[]
[null,null,9,null,null,null,null,null,null,null,9,null,null,null,null,null,null,null,9,null,null,null,null,null,null,null,9]
[]
[null,null,10,null,null,null,null,null,null,null,10,null,null,null,null,null,null,null,10,null,null,null,null,null,null,null,10]
[]
[]
[]
[]
[]
[null,null,null,null,null,null,"Ext 102",null,null,null,null,null,null,null,"Ext 102",null,null,null,null,null,null,null,"Ext 102",null,null,null,null,null,null,null,"Ext 102"]